BEGIN:VCALENDAR
VERSION:2.0
PRODID:-//Christian Gaard Bygdetun - ECPv6.15.20//NONSGML v1.0//EN
CALSCALE:GREGORIAN
METHOD:PUBLISH
X-ORIGINAL-URL:https://christian-gaard.no
X-WR-CALDESC:Arrangement for Christian Gaard Bygdetun
REFRESH-INTERVAL;VALUE=DURATION:PT1H
X-Robots-Tag:noindex
X-PUBLISHED-TTL:PT1H
BEGIN:VTIMEZONE
TZID:Europe/Oslo
BEGIN:DAYLIGHT
TZOFFSETFROM:+0100
TZOFFSETTO:+0200
TZNAME:CEST
DTSTART:20250330T010000
END:DAYLIGHT
BEGIN:STANDARD
TZOFFSETFROM:+0200
TZOFFSETTO:+0100
TZNAME:CET
DTSTART:20251026T010000
END:STANDARD
BEGIN:DAYLIGHT
TZOFFSETFROM:+0100
TZOFFSETTO:+0200
TZNAME:CEST
DTSTART:20260329T010000
END:DAYLIGHT
BEGIN:STANDARD
TZOFFSETFROM:+0200
TZOFFSETTO:+0100
TZNAME:CET
DTSTART:20261025T010000
END:STANDARD
BEGIN:DAYLIGHT
TZOFFSETFROM:+0100
TZOFFSETTO:+0200
TZNAME:CEST
DTSTART:20270328T010000
END:DAYLIGHT
BEGIN:STANDARD
TZOFFSETFROM:+0200
TZOFFSETTO:+0100
TZNAME:CET
DTSTART:20271031T010000
END:STANDARD
END:VTIMEZONE
BEGIN:VEVENT
DTSTART;TZID=Europe/Oslo:20260703T150000
DTEND;TZID=Europe/Oslo:20260705T020000
DTSTAMP:20260426T053551
CREATED:20250309T001911Z
LAST-MODIFIED:20260318T202517Z
UID:10000008-1783090800-1783216800@christian-gaard.no
SUMMARY:TrandalBlues
DESCRIPTION:KJØP FESTIVALPASS HER
URL:https://christian-gaard.no/arrangement/trandalblues/
ATTACH;FMTTYPE=image/jpeg:https://christian-gaard.no/wp-content/uploads/trandalblues.jpg
END:VEVENT
END:VCALENDAR