BEGIN:VCALENDAR
VERSION:2.0
PRODID:-//Christian Gaard Bygdetun - ECPv6.15.18//NONSGML v1.0//EN
CALSCALE:GREGORIAN
METHOD:PUBLISH
X-ORIGINAL-URL:https://christian-gaard.no
X-WR-CALDESC:Arrangement for Christian Gaard Bygdetun
REFRESH-INTERVAL;VALUE=DURATION:PT1H
X-Robots-Tag:noindex
X-PUBLISHED-TTL:PT1H
BEGIN:VTIMEZONE
TZID:Europe/Oslo
BEGIN:DAYLIGHT
TZOFFSETFROM:+0100
TZOFFSETTO:+0200
TZNAME:CEST
DTSTART:20230326T010000
END:DAYLIGHT
BEGIN:STANDARD
TZOFFSETFROM:+0200
TZOFFSETTO:+0100
TZNAME:CET
DTSTART:20231029T010000
END:STANDARD
BEGIN:DAYLIGHT
TZOFFSETFROM:+0100
TZOFFSETTO:+0200
TZNAME:CEST
DTSTART:20240331T010000
END:DAYLIGHT
BEGIN:STANDARD
TZOFFSETFROM:+0200
TZOFFSETTO:+0100
TZNAME:CET
DTSTART:20241027T010000
END:STANDARD
BEGIN:DAYLIGHT
TZOFFSETFROM:+0100
TZOFFSETTO:+0200
TZNAME:CEST
DTSTART:20250330T010000
END:DAYLIGHT
BEGIN:STANDARD
TZOFFSETFROM:+0200
TZOFFSETTO:+0100
TZNAME:CET
DTSTART:20251026T010000
END:STANDARD
BEGIN:DAYLIGHT
TZOFFSETFROM:+0100
TZOFFSETTO:+0200
TZNAME:CEST
DTSTART:20260329T010000
END:DAYLIGHT
BEGIN:STANDARD
TZOFFSETFROM:+0200
TZOFFSETTO:+0100
TZNAME:CET
DTSTART:20261025T010000
END:STANDARD
BEGIN:DAYLIGHT
TZOFFSETFROM:+0100
TZOFFSETTO:+0200
TZNAME:CEST
DTSTART:20270328T010000
END:DAYLIGHT
BEGIN:STANDARD
TZOFFSETFROM:+0200
TZOFFSETTO:+0100
TZNAME:CET
DTSTART:20271031T010000
END:STANDARD
END:VTIMEZONE
BEGIN:VEVENT
DTSTART;TZID=Europe/Oslo:20260402T190000
DTEND;TZID=Europe/Oslo:20260403T010000
DTSTAMP:20260419T193359
CREATED:20240211T112923Z
LAST-MODIFIED:20260319T192346Z
UID:10000002-1775156400-1775178000@christian-gaard.no
SUMMARY:Skjærtorsdag med DJ Rune
DESCRIPTION:Tradisjonen tru kjem DJ Rune og speler opp til låvedans i løda på Christian Gaard! \n 
URL:https://christian-gaard.no/arrangement/skjaertorsdag-med-dj-rune/
ATTACH;FMTTYPE=image/jpeg:https://christian-gaard.no/wp-content/uploads/PXL_20240328_223917435-scaled-e1773948126159.jpg
END:VEVENT
BEGIN:VEVENT
DTSTART;TZID=Europe/Oslo:20250807T220000
DTEND;TZID=Europe/Oslo:20250810T020000
DTSTAMP:20260419T193359
CREATED:20250309T002809Z
LAST-MODIFIED:20250411T193626Z
UID:10000009-1754604000-1754791200@christian-gaard.no
SUMMARY:Trandal Countryfestival 2025
DESCRIPTION:Kjøp Festivalpass\n  \nKjøp båtskyss og camping\n  \n TORSDAG 7. AUGUST\n\n\n\n\nTID\nARTIST / BAND\nSTED\n\n\n\n\n21.30 – 01.00\nSIVERT BJØRDAL J.A YTTERLAND m/fler\nTRUBADURSCENEN\n\n\n\n\n\nFREDAG 8.AUGUST\n\n\n\n\nTID\nARTIST / BAND\nSTED\n\n\n\n\n14.00-16.00\nSIVERT BJØRDAL-J.A YTTERLAND -m/ fler\nTRUBADURSCENEN\n\n\n16.00\nLINEDANCE KURS Ørsta Ld.\nHOVEDSCENEN\n\n\n17.00\nSIVERT BJØRDAL m/Band\nHOVEDSCENEN\n\n\n18.00\nBELINDA CHARLENE m/ the rattlesnakes\nHOVEDSCENEN\n\n\n19.00\nSANDRA SØDERLUND m/ the rattlesnakes\nHOVEDSCENEN\n\n\n20.00\nRØSTAD GRASS BROTHERS\nHOVEDSCENEN\n\n\n21.15\nNIKOLAS WADE & THE RAMBLIN CROWD\nHOVEDSCENEN\n\n\n22.15\nPAM MCBETH & CHRIS KOENEN\nHOVEDSCENEN\n\n\n23.15\nCOUNTRY QUEENS +++\nHOVEDSCENEN\n\n\n00.15\nJAKE LINDHOLM m/ the rattlesnakes\nHOVEDSCENEN\n\n\n\n\n\nLØRDAG 9. AUGUST\n\n\n\n\nTID\nARTIST / BAND\nSTED\n\n\n\n\n14.00\nCountry & Gospel Konsert SivertBjørdal & Artist venner.\nTRUBADURSCENEN\n\n\n15.30\nLINEDANCE KURS Ørsta LD.\nHOVEDSCENEN\n\n\n17.00\nSANDRA SØDERLUND m/ the rattlesnakes\nHOVEDSCENEN\n\n\n18.00\nBELINDA CHARLENE m/ the rattlesnakes\nHOVEDSCENEN\n\n\n19.00\nRØSTAD GRASS BROTHERS\nHOVEDSCENEN\n\n\n20.00\nJAKE LINDHOLM m/the rattlesnakes\nHOVEDSCENEN\n\n\n21.00\nCOUNTRY QUEENS +++\nHOVEDSCENEN\n\n\n22.00\nPAM MCBETH & CHRIS KOENEN\nHOVEDSCENEN\n\n\n23.00\nNIKOLAS WADE & THE RAMBLIN CROWD\nHOVEDSCENEN\n\n\n00.15\nSIVERT BJØRDAL M/Band\nHOVEDSCENEN\n\n\n00.45\nAVSLUTNING med alle artister på scenen.\nHOVEDSCENEN
URL:https://christian-gaard.no/arrangement/trandal-countryfestival-2025/
ATTACH;FMTTYPE=image/jpeg:https://christian-gaard.no/wp-content/uploads/eyJ0IjoiMSIsImsiOiJBMWQifQ.jhDD7nAZfQ43Lut5EeYlx9lRP9C3ooWn37SOuUXg3Nd1EiiQR9-hMTJZK0SE7pYL7d47Ysf2cOqkSMRh_Sm2qBHEqd0q3rXFgwN4ePzCRsdLvaYltzq0A6qtg8mC7pu-1-1.jpg
END:VEVENT
BEGIN:VEVENT
DTSTART;TZID=Europe/Oslo:20250405T150000
DTEND;TZID=Europe/Oslo:20250406T010000
DTSTAMP:20260419T193359
CREATED:20250310T153316Z
LAST-MODIFIED:20250310T153316Z
UID:10000013-1743865200-1743901200@christian-gaard.no
SUMMARY:Afterski med DJ Rune - 05. April
DESCRIPTION:Vi let ikkje manglande snø sette stoppar for den gode afterski-stemninga og inviterer til dans med DJ Rune fleire helger framover mot våren! \n 
URL:https://christian-gaard.no/arrangement/afterski-med-dj-rune-05-april/
CATEGORIES:Musikk
ATTACH;FMTTYPE=image/jpeg:https://christian-gaard.no/wp-content/uploads/PXL_20240328_224048116-scaled-e1740336480251.jpg
END:VEVENT
BEGIN:VEVENT
DTSTART;TZID=Europe/Oslo:20250329T150000
DTEND;TZID=Europe/Oslo:20250330T010000
DTSTAMP:20260419T193359
CREATED:20250310T152955Z
LAST-MODIFIED:20250322T222109Z
UID:10000012-1743260400-1743296400@christian-gaard.no
SUMMARY:Afterski med DJ Rune - 29. Mars
DESCRIPTION:Vinteren kan kanskje verke å vere på hell\, og sjølv om det er lite snø og ikkje dei beste toppturforholda\, er det ingen grunn til å sitte heime! Laurdag 29. mars og fleire helger framover inviterer vi til festkveld på Christian Gaard Bygdetun\, der DJ Rune Rotevatn står for musikken og sørger for topp stemning på dansegolvet. \nRestauranten held ope til kl. 21:00\, så kom tidlig og nyt ein betre middag før musikken tek over. \nSelv om skiføret svikter\, svikter vi ikke på festen! \n\nTreng dykk båtskyss frå andre stader i Hjørundfjorden? \nKontakt oss
URL:https://christian-gaard.no/arrangement/afterski-med-dj-rune-04-april/
CATEGORIES:Musikk
ATTACH;FMTTYPE=image/jpeg:https://christian-gaard.no/wp-content/uploads/PXL_20240328_224048116-scaled-e1740336480251.jpg
END:VEVENT
BEGIN:VEVENT
DTSTART;TZID=Europe/Oslo:20250322T150000
DTEND;TZID=Europe/Oslo:20250323T010000
DTSTAMP:20260419T193359
CREATED:20250310T152421Z
LAST-MODIFIED:20250310T154016Z
UID:10000011-1742655600-1742691600@christian-gaard.no
SUMMARY:Afterski med DJ Rune - 22. Mars
DESCRIPTION:Vi let ikkje manglande snø sette stoppar for den gode afterski-stemninga og inviterer til dans med DJ Rune fleire helger framover mot våren! \n  \n  \nTreng dykk båtskyss frå andre stader i Hjørundfjorden? \nKontakt oss \n 
URL:https://christian-gaard.no/arrangement/afterski-med-dj-rune-22-mars/
CATEGORIES:Musikk
ATTACH;FMTTYPE=image/jpeg:https://christian-gaard.no/wp-content/uploads/PXL_20240328_224048116-scaled-e1740336480251.jpg
END:VEVENT
BEGIN:VEVENT
DTSTART;VALUE=DATE:20240705
DTEND;VALUE=DATE:20240707
DTSTAMP:20260419T193359
CREATED:20240208T124610Z
LAST-MODIFIED:20240211T115042Z
UID:10000001-1720137600-1720310399@christian-gaard.no
SUMMARY:Trandalblues 2024
DESCRIPTION:Kjøp Festivalpass\nKjøp båtskyss og camping\nFredag 5. juli 2024: \nKonsert start kl. 19:00\nGreg Izor & Deja Voodoo Trio\nReidar Larsen & Hjemmelaget\nEidem\nT.B.A.\n____________________________________ \nLaurdag 6. juli 2024: \nKonsert start kl. 18:00\nVetrhus Bluesband\nGood Time Charlie\nDanielle Nicole Band\nFaculty of Funk
URL:https://christian-gaard.no/arrangement/trandalblues-2024/
ATTACH;FMTTYPE=image/jpeg:https://christian-gaard.no/wp-content/uploads/trandalblues.jpg
END:VEVENT
BEGIN:VEVENT
DTSTART;TZID=Europe/Oslo:20240607T180000
DTEND;TZID=Europe/Oslo:20240609T010000
DTSTAMP:20260419T193359
CREATED:20240211T113339Z
LAST-MODIFIED:20240211T114636Z
UID:10000003-1717783200-1717894800@christian-gaard.no
SUMMARY:TrandalRock 2024
DESCRIPTION:  \n  \nKjøp Festivalpass\nKjøp båtskyss og camping
URL:https://christian-gaard.no/arrangement/trandalrock/
ATTACH;FMTTYPE=image/jpeg:https://christian-gaard.no/wp-content/uploads/423541996_1094636714909709_5005861693199434045_n.jpg
END:VEVENT
BEGIN:VEVENT
DTSTART;TZID=Europe/Oslo:20240517T160000
DTEND;TZID=Europe/Oslo:20240517T220000
DTSTAMP:20260419T193359
CREATED:20240429T110616Z
LAST-MODIFIED:20240429T174420Z
UID:10000006-1715961600-1715983200@christian-gaard.no
SUMMARY:17. mai på Trandal
DESCRIPTION:Tradisjonen tru feirar vi 17. mai på Trandal. Toget byrjar på “Brauta” etter årets tale er ferdig og set kursen innover mot Christian Gaard Bygdetun. Der ventar buffé og leikar til dei minste. \nSidan oppmøte varierer frå år til år så ber vi om at dykk førehandstingar mat slik at vi får ein peikepinn på kor mykje folk som kjem. \nBordreservasjon her: https://christian-gaard.no/mathendingar/17-mai-buffe/
URL:https://christian-gaard.no/arrangement/17-mai-pa-trandal/
ATTACH;FMTTYPE=image/avif:https://christian-gaard.no/wp-content/uploads/f0229eda-413c-4f5c-b211-77002e5edb73.avif
END:VEVENT
BEGIN:VEVENT
DTSTART;TZID=Europe/Oslo:20240420T210000
DTEND;TZID=Europe/Oslo:20240421T010000
DTSTAMP:20260419T193359
CREATED:20240214T125407Z
LAST-MODIFIED:20250416T190227Z
UID:10000004-1713646800-1713661200@christian-gaard.no
SUMMARY:Afterski med Listen to the band
DESCRIPTION:I samband med Hjørundfjord skifestival så inviterer vi alle på afterski med Listen to the band på Christian Gaard! \nMøre og Romsdal hadde vore ein stillare stad hadde det ikkje vore for Listen to the Band. Femkløveret er stadig å sjå på dei nordvestlandske scenene\, i ferd med å spre musikalsk glede på bygdedans\, julebord\, skipsdåp\, revy eller andre eventjobbar. Bandet er eit resultat av reindyrka\, gnistrande og smittande speleglede frå første til siste akkord. Bandet tilpassar repertoar og volum etter arrangement og alder på publikum. Den musikalske spennvidda er stor\, men dei unngår galant å ramle i svensktopp-fella. Bandet leverer coverlåtar frå tidleg 70-tall og fram til i dag\, kjemisk fritt for midifiler og trommer på boks. \nBesetning:\nGard Eirik Austrheim: Vokal og gitar\nSigbjørn Follestad: Vokal og gitar\nBottolf Lødemel: Keyboards og vokal\nFrode Sundnes: Trommer\nAtle Braute: Bass og vokal \n  \nKjøp billett og båtskyss her
URL:https://christian-gaard.no/arrangement/afterski-med-listen-to-the-band/
ATTACH;FMTTYPE=image/jpeg:https://christian-gaard.no/wp-content/uploads/413950374_850389443753926_8507188293488948632_n.jpg
END:VEVENT
END:VCALENDAR